BEGIN:VCALENDAR
VERSION:2.0
PRODID:-//ABC Wesseln - ECPv6.15.20//NONSGML v1.0//EN
CALSCALE:GREGORIAN
METHOD:PUBLISH
X-WR-CALNAME:ABC Wesseln
X-ORIGINAL-URL:https://www.abc-wesseln.de
X-WR-CALDESC:Veranstaltungen für ABC Wesseln
REFRESH-INTERVAL;VALUE=DURATION:PT1H
X-Robots-Tag:noindex
X-PUBLISHED-TTL:PT1H
BEGIN:VTIMEZONE
TZID:Europe/Berlin
BEGIN:DAYLIGHT
TZOFFSETFROM:+0100
TZOFFSETTO:+0200
TZNAME:CEST
DTSTART:20220327T010000
END:DAYLIGHT
BEGIN:STANDARD
TZOFFSETFROM:+0200
TZOFFSETTO:+0100
TZNAME:CET
DTSTART:20221030T010000
END:STANDARD
BEGIN:DAYLIGHT
TZOFFSETFROM:+0100
TZOFFSETTO:+0200
TZNAME:CEST
DTSTART:20230326T010000
END:DAYLIGHT
BEGIN:STANDARD
TZOFFSETFROM:+0200
TZOFFSETTO:+0100
TZNAME:CET
DTSTART:20231029T010000
END:STANDARD
BEGIN:DAYLIGHT
TZOFFSETFROM:+0100
TZOFFSETTO:+0200
TZNAME:CEST
DTSTART:20240331T010000
END:DAYLIGHT
BEGIN:STANDARD
TZOFFSETFROM:+0200
TZOFFSETTO:+0100
TZNAME:CET
DTSTART:20241027T010000
END:STANDARD
END:VTIMEZONE
BEGIN:VEVENT
DTSTART;TZID=Europe/Berlin:20230704T080000
DTEND;TZID=Europe/Berlin:20230704T170000
DTSTAMP:20260422T130659
CREATED:20230323T165900Z
LAST-MODIFIED:20230323T170440Z
UID:3763-1688457600-1688490000@www.abc-wesseln.de
SUMMARY:Sportabzeichen 6. Termin
DESCRIPTION:Ort: Sportplatz Wesseln (hinter der Grundschule) \nZeit: Dienstag um 18.00 Uhr am \n\n2.\, 9. und 23. Mai \n6. und 20. Juni\n4. und 11. Juli\n29. August\n5. und 19. September
URL:https://www.abc-wesseln.de/veranstaltung/sportabzeichen-6-termin/
LOCATION:Schule in Wesseln
CATEGORIES:Sportabzeichen
END:VEVENT
BEGIN:VEVENT
DTSTART;TZID=Europe/Berlin:20230711T180000
DTEND;TZID=Europe/Berlin:20230711T180000
DTSTAMP:20260422T130659
CREATED:20230323T165958Z
LAST-MODIFIED:20230323T170432Z
UID:3765-1689098400-1689098400@www.abc-wesseln.de
SUMMARY:Sportabzeichen 7. Termin
DESCRIPTION:Ort: Sportplatz Wesseln (hinter der Grundschule) \nZeit: Dienstag um 18.00 Uhr am \n\n2.\, 9. und 23. Mai \n6. und 20. Juni\n4. und 11. Juli\n29. August\n5. und 19. September
URL:https://www.abc-wesseln.de/veranstaltung/sportabzeichen-7-termin/
LOCATION:Schule in Wesseln
CATEGORIES:Sportabzeichen
END:VEVENT
END:VCALENDAR