BEGIN:VCALENDAR
VERSION:2.0
PRODID:-//ABC Wesseln - ECPv6.15.20//NONSGML v1.0//EN
CALSCALE:GREGORIAN
METHOD:PUBLISH
X-WR-CALNAME:ABC Wesseln
X-ORIGINAL-URL:https://www.abc-wesseln.de
X-WR-CALDESC:Veranstaltungen für ABC Wesseln
REFRESH-INTERVAL;VALUE=DURATION:PT1H
X-Robots-Tag:noindex
X-PUBLISHED-TTL:PT1H
BEGIN:VTIMEZONE
TZID:Europe/Berlin
BEGIN:DAYLIGHT
TZOFFSETFROM:+0100
TZOFFSETTO:+0200
TZNAME:CEST
DTSTART:20220327T010000
END:DAYLIGHT
BEGIN:STANDARD
TZOFFSETFROM:+0200
TZOFFSETTO:+0100
TZNAME:CET
DTSTART:20221030T010000
END:STANDARD
BEGIN:DAYLIGHT
TZOFFSETFROM:+0100
TZOFFSETTO:+0200
TZNAME:CEST
DTSTART:20230326T010000
END:DAYLIGHT
BEGIN:STANDARD
TZOFFSETFROM:+0200
TZOFFSETTO:+0100
TZNAME:CET
DTSTART:20231029T010000
END:STANDARD
BEGIN:DAYLIGHT
TZOFFSETFROM:+0100
TZOFFSETTO:+0200
TZNAME:CEST
DTSTART:20240331T010000
END:DAYLIGHT
BEGIN:STANDARD
TZOFFSETFROM:+0200
TZOFFSETTO:+0100
TZNAME:CET
DTSTART:20241027T010000
END:STANDARD
END:VTIMEZONE
BEGIN:VEVENT
DTSTART;TZID=Europe/Berlin:20230204T150000
DTEND;TZID=Europe/Berlin:20230204T180000
DTSTAMP:20260422T201117
CREATED:20221119T115350Z
LAST-MODIFIED:20221119T200053Z
UID:3508-1675522800-1675533600@www.abc-wesseln.de
SUMMARY:Kinderfasching
DESCRIPTION:
URL:https://www.abc-wesseln.de/veranstaltung/kinderfasching/
LOCATION:Schule in Wesseln
CATEGORIES:Feste,Für Kinder
END:VEVENT
BEGIN:VEVENT
DTSTART;TZID=Europe/Berlin:20230222T190000
DTEND;TZID=Europe/Berlin:20230222T203000
DTSTAMP:20260422T201117
CREATED:20230212T112057Z
LAST-MODIFIED:20230212T112251Z
UID:3632-1677092400-1677097800@www.abc-wesseln.de
SUMMARY:Dart beim ABC
DESCRIPTION:Ein Bullseye für den Sport \nBeginn: Mittwoch\, den 22.02.2023 – (danach jeden Mittwoch) 19Uhr\nWo: Besprechungsraum hinter der Turnhalle\nJeder und Jede ist willkommen \n 
URL:https://www.abc-wesseln.de/veranstaltung/dart-beim-abc/
LOCATION:Besprechungsraum\, Holstenstraße 43\, Wesseln\, 25746\, Deutschland
CATEGORIES:Für Alle
END:VEVENT
END:VCALENDAR