BEGIN:VCALENDAR
VERSION:2.0
PRODID:-//ABC Wesseln - ECPv6.15.20//NONSGML v1.0//EN
CALSCALE:GREGORIAN
METHOD:PUBLISH
X-WR-CALNAME:ABC Wesseln
X-ORIGINAL-URL:https://www.abc-wesseln.de
X-WR-CALDESC:Veranstaltungen für ABC Wesseln
REFRESH-INTERVAL;VALUE=DURATION:PT1H
X-Robots-Tag:noindex
X-PUBLISHED-TTL:PT1H
BEGIN:VTIMEZONE
TZID:Europe/Berlin
BEGIN:DAYLIGHT
TZOFFSETFROM:+0100
TZOFFSETTO:+0200
TZNAME:CEST
DTSTART:20200329T010000
END:DAYLIGHT
BEGIN:STANDARD
TZOFFSETFROM:+0200
TZOFFSETTO:+0100
TZNAME:CET
DTSTART:20201025T010000
END:STANDARD
BEGIN:DAYLIGHT
TZOFFSETFROM:+0100
TZOFFSETTO:+0200
TZNAME:CEST
DTSTART:20210328T010000
END:DAYLIGHT
BEGIN:STANDARD
TZOFFSETFROM:+0200
TZOFFSETTO:+0100
TZNAME:CET
DTSTART:20211031T010000
END:STANDARD
BEGIN:DAYLIGHT
TZOFFSETFROM:+0100
TZOFFSETTO:+0200
TZNAME:CEST
DTSTART:20220327T010000
END:DAYLIGHT
BEGIN:STANDARD
TZOFFSETFROM:+0200
TZOFFSETTO:+0100
TZNAME:CET
DTSTART:20221030T010000
END:STANDARD
END:VTIMEZONE
BEGIN:VEVENT
DTSTART;TZID=Europe/Berlin:20211113T193000
DTEND;TZID=Europe/Berlin:20211113T193000
DTSTAMP:20260425T173758
CREATED:20210805T160518Z
LAST-MODIFIED:20210805T160715Z
UID:2901-1636831800-1636831800@www.abc-wesseln.de
SUMMARY:Becherclubfest 2021
DESCRIPTION:Der ABC Wesseln möchte Danke zu sagen:\nDanke für Deinen Einsatz im Ehrenamt und das Du Dich im ABC Wesseln engagierst!\nDie Becherclubfeier findet in diesem Jahr am 13. November 2021 um 19.30 Uhr im Dörpshus in Lohe-Rickelshof statt.
URL:https://www.abc-wesseln.de/veranstaltung/becherclubfest-2021/
LOCATION:Dörpshus Lohe-Rickelshof\, Loher Weg 124\, Lohe-Rickelshof\, 25746\, Deutschland
END:VEVENT
END:VCALENDAR