BEGIN:VCALENDAR
VERSION:2.0
PRODID:-//ABC Wesseln - ECPv6.15.20//NONSGML v1.0//EN
CALSCALE:GREGORIAN
METHOD:PUBLISH
X-ORIGINAL-URL:https://www.abc-wesseln.de
X-WR-CALDESC:Veranstaltungen für ABC Wesseln
REFRESH-INTERVAL;VALUE=DURATION:PT1H
X-Robots-Tag:noindex
X-PUBLISHED-TTL:PT1H
BEGIN:VTIMEZONE
TZID:Europe/Berlin
BEGIN:DAYLIGHT
TZOFFSETFROM:+0100
TZOFFSETTO:+0200
TZNAME:CEST
DTSTART:20200329T010000
END:DAYLIGHT
BEGIN:STANDARD
TZOFFSETFROM:+0200
TZOFFSETTO:+0100
TZNAME:CET
DTSTART:20201025T010000
END:STANDARD
BEGIN:DAYLIGHT
TZOFFSETFROM:+0100
TZOFFSETTO:+0200
TZNAME:CEST
DTSTART:20210328T010000
END:DAYLIGHT
BEGIN:STANDARD
TZOFFSETFROM:+0200
TZOFFSETTO:+0100
TZNAME:CET
DTSTART:20211031T010000
END:STANDARD
BEGIN:DAYLIGHT
TZOFFSETFROM:+0100
TZOFFSETTO:+0200
TZNAME:CEST
DTSTART:20220327T010000
END:DAYLIGHT
BEGIN:STANDARD
TZOFFSETFROM:+0200
TZOFFSETTO:+0100
TZNAME:CET
DTSTART:20221030T010000
END:STANDARD
END:VTIMEZONE
BEGIN:VEVENT
DTSTART;TZID=Europe/Berlin:20211020T183000
DTEND;TZID=Europe/Berlin:20211020T191500
DTSTAMP:20260425T190637
CREATED:20211007T170748Z
LAST-MODIFIED:20211007T171134Z
UID:3031-1634754600-1634757300@www.abc-wesseln.de
SUMMARY:Zumba
DESCRIPTION:Wir starten mit einer neuen Sportart beim ABC Wesseln und freuen uns auf auch! Nun immer Mittwochs ab 18:30 – 19:15. \nAnmeldungen gerne unter ankebehrmann@web.de
URL:https://www.abc-wesseln.de/veranstaltung/zumba/
LOCATION:Sporthalle Grundschule Wesseln\, Holstenstraße 43\, Wesseln\, 25746\, Deutschland
CATEGORIES:Für Alle
END:VEVENT
BEGIN:VEVENT
DTSTART;TZID=Europe/Berlin:20211020T191500
DTEND;TZID=Europe/Berlin:20211020T200000
DTSTAMP:20260425T190637
CREATED:20211007T170904Z
LAST-MODIFIED:20211007T171225Z
UID:3034-1634757300-1634760000@www.abc-wesseln.de
SUMMARY:Hula-Hoop
DESCRIPTION:Wir starten mit einer neuen Sportart beim ABC Wesseln und freuen uns auf auch! Ab 20.10. immer mittwochs von 19:15 bis 20:00 Uhr \nAnmeldungen unter: ankebehrmann@web.de
URL:https://www.abc-wesseln.de/veranstaltung/hula-hoop/
LOCATION:Sporthalle Grundschule Wesseln\, Holstenstraße 43\, Wesseln\, 25746\, Deutschland
CATEGORIES:Für Alle
END:VEVENT
BEGIN:VEVENT
DTSTART;TZID=Europe/Berlin:20211029T190000
DTEND;TZID=Europe/Berlin:20211029T210000
DTSTAMP:20260425T190637
CREATED:20210805T155808Z
LAST-MODIFIED:20210923T180623Z
UID:2897-1635534000-1635541200@www.abc-wesseln.de
SUMMARY:Laternenumzug des ABC Wesseln
DESCRIPTION:Der ABC Wesseln veranstaltet am Freitag\, dem 29. Oktober 2021 um  19.00 Uhr ein Laternenumzug mit dem Spielmannszug Linden und der Freiwilligen Feuerwehr\, Löschgruppe Wesseln.\nEvtl. wird anstelle des Umzuges ein Platzkonzert auf dem Sportplatz in Wesseln stattfinden.
URL:https://www.abc-wesseln.de/veranstaltung/2897/
LOCATION:Schule in Wesseln
END:VEVENT
END:VCALENDAR