BEGIN:VCALENDAR
VERSION:2.0
PRODID:-//ABC Wesseln - ECPv6.15.20//NONSGML v1.0//EN
CALSCALE:GREGORIAN
METHOD:PUBLISH
X-WR-CALNAME:ABC Wesseln
X-ORIGINAL-URL:https://www.abc-wesseln.de
X-WR-CALDESC:Veranstaltungen für ABC Wesseln
REFRESH-INTERVAL;VALUE=DURATION:PT1H
X-Robots-Tag:noindex
X-PUBLISHED-TTL:PT1H
BEGIN:VTIMEZONE
TZID:Europe/Berlin
BEGIN:DAYLIGHT
TZOFFSETFROM:+0100
TZOFFSETTO:+0200
TZNAME:CEST
DTSTART:20200329T010000
END:DAYLIGHT
BEGIN:STANDARD
TZOFFSETFROM:+0200
TZOFFSETTO:+0100
TZNAME:CET
DTSTART:20201025T010000
END:STANDARD
BEGIN:DAYLIGHT
TZOFFSETFROM:+0100
TZOFFSETTO:+0200
TZNAME:CEST
DTSTART:20210328T010000
END:DAYLIGHT
BEGIN:STANDARD
TZOFFSETFROM:+0200
TZOFFSETTO:+0100
TZNAME:CET
DTSTART:20211031T010000
END:STANDARD
BEGIN:DAYLIGHT
TZOFFSETFROM:+0100
TZOFFSETTO:+0200
TZNAME:CEST
DTSTART:20220327T010000
END:DAYLIGHT
BEGIN:STANDARD
TZOFFSETFROM:+0200
TZOFFSETTO:+0100
TZNAME:CET
DTSTART:20221030T010000
END:STANDARD
END:VTIMEZONE
BEGIN:VEVENT
DTSTART;TZID=Europe/Berlin:20210905T120000
DTEND;TZID=Europe/Berlin:20210905T170000
DTSTAMP:20260425T201822
CREATED:20210824T162130Z
LAST-MODIFIED:20210824T162130Z
UID:2936-1630843200-1630861200@www.abc-wesseln.de
SUMMARY:Event der Kreissportjugend in den Kreistannen
DESCRIPTION:s. diesen Beitrag für Details: https://www.abc-wesseln.de/einladung-zum-event-der-kreissportjugend-am-05-09-2021/ \nGerne teilen und weiterleiten! \nAnmeldung hier: https://www.ksj-dithmarschen.de/ \n 
URL:https://www.abc-wesseln.de/veranstaltung/event-der-kreissportjugend-in-den-kreistannen/
LOCATION:Zum Waldhaus 4\, 25795 Weddingstedt\, Zum Waldhaus 4\, Weddingstedt\, Schleswig-Holstein\, 25795\, Deutschland
END:VEVENT
BEGIN:VEVENT
DTSTART;TZID=Europe/Berlin:20210907T180000
DTEND;TZID=Europe/Berlin:20210907T193000
DTSTAMP:20260425T201822
CREATED:20210421T150003Z
LAST-MODIFIED:20210421T150003Z
UID:2825-1631037600-1631043000@www.abc-wesseln.de
SUMMARY:Sportabzeichen
DESCRIPTION:Hans-Georg\, Claudia und Olaf bieten das Sportabzeichen wieder an vielen Tagen im Jahr an. \nDas Sportabzeichen ist kostenlos und für alle\, sodass Dich Nichts hindern sollte\, mal vorbeizuschauen und Gold zu holen! \nViel Spaß!
URL:https://www.abc-wesseln.de/veranstaltung/sportabzeichen-25/
LOCATION:Sportplatz an der Holstenstraße\, Holstenstraße 43\, Wesseln\, 25746\, Deutschland
END:VEVENT
BEGIN:VEVENT
DTSTART;TZID=Europe/Berlin:20210921T180000
DTEND;TZID=Europe/Berlin:20210921T193000
DTSTAMP:20260425T201822
CREATED:20210421T150032Z
LAST-MODIFIED:20210421T150032Z
UID:2826-1632247200-1632252600@www.abc-wesseln.de
SUMMARY:Sportabzeichen
DESCRIPTION:Hans-Georg\, Claudia und Olaf bieten das Sportabzeichen wieder an vielen Tagen im Jahr an. \nDas Sportabzeichen ist kostenlos und für alle\, sodass Dich Nichts hindern sollte\, mal vorbeizuschauen und Gold zu holen! \nViel Spaß!
URL:https://www.abc-wesseln.de/veranstaltung/sportabzeichen-26/
LOCATION:Sportplatz an der Holstenstraße\, Holstenstraße 43\, Wesseln\, 25746\, Deutschland
END:VEVENT
BEGIN:VEVENT
DTSTART;TZID=Europe/Berlin:20210930T190000
DTEND;TZID=Europe/Berlin:20210930T190000
DTSTAMP:20260425T201822
CREATED:20210805T142120Z
LAST-MODIFIED:20210805T142120Z
UID:2895-1633028400-1633028400@www.abc-wesseln.de
SUMMARY:Mitgliederversammlung 2021
DESCRIPTION:Am Donnerstag\, dem 30. September 2021 um 19.00 Uhr\nfindet die nächste Mitgliederversammlung des ABC Wesseln\nim Gemeinschaftsraum der Schule Wesseln statt.
URL:https://www.abc-wesseln.de/veranstaltung/mitgliederversammlung-2021/
LOCATION:Gemeinderaum\, Holstenstraße 43\, Wesseln\, Schleswig-Holstein\, 25746\, Deutschland
END:VEVENT
END:VCALENDAR