BEGIN:VCALENDAR
VERSION:2.0
PRODID:-//ABC Wesseln - ECPv6.15.20//NONSGML v1.0//EN
CALSCALE:GREGORIAN
METHOD:PUBLISH
X-ORIGINAL-URL:https://www.abc-wesseln.de
X-WR-CALDESC:Veranstaltungen für ABC Wesseln
REFRESH-INTERVAL;VALUE=DURATION:PT1H
X-Robots-Tag:noindex
X-PUBLISHED-TTL:PT1H
BEGIN:VTIMEZONE
TZID:Europe/Berlin
BEGIN:DAYLIGHT
TZOFFSETFROM:+0100
TZOFFSETTO:+0200
TZNAME:CEST
DTSTART:20250330T010000
END:DAYLIGHT
BEGIN:STANDARD
TZOFFSETFROM:+0200
TZOFFSETTO:+0100
TZNAME:CET
DTSTART:20251026T010000
END:STANDARD
BEGIN:DAYLIGHT
TZOFFSETFROM:+0100
TZOFFSETTO:+0200
TZNAME:CEST
DTSTART:20260329T010000
END:DAYLIGHT
BEGIN:STANDARD
TZOFFSETFROM:+0200
TZOFFSETTO:+0100
TZNAME:CET
DTSTART:20261025T010000
END:STANDARD
BEGIN:DAYLIGHT
TZOFFSETFROM:+0100
TZOFFSETTO:+0200
TZNAME:CEST
DTSTART:20270328T010000
END:DAYLIGHT
BEGIN:STANDARD
TZOFFSETFROM:+0200
TZOFFSETTO:+0100
TZNAME:CET
DTSTART:20271031T010000
END:STANDARD
END:VTIMEZONE
BEGIN:VEVENT
DTSTART;TZID=Europe/Berlin:20261107T190000
DTEND;TZID=Europe/Berlin:20261107T190000
DTSTAMP:20260425T023249
CREATED:20251021T235445Z
LAST-MODIFIED:20260421T062956Z
UID:4371-1794078000-1794078000@www.abc-wesseln.de
SUMMARY:Becherclub 2026
DESCRIPTION:Am 7. November 2026 findet unser Becherclub im Dörpshus statt. Ein geselliger Abend\, um das Vereinsjahr gemeinsam ausklingen zu lassen\, bei Musik und netten Gesprächen. Alle Mitglieder und Freunde sind willkommen. Kommt vorbei\, bringt gute Laune mit und erlebt einen gemütlichen Abend in entspannter Atmosphäre. Euer ABC Wesseln
URL:https://www.abc-wesseln.de/veranstaltung/becherclub-2026/
LOCATION:Dörpshus Lohe-Rickelshof\, Loher Weg 124\, Lohe-Rickelshof\, 25746\, Deutschland
END:VEVENT
END:VCALENDAR