BEGIN:VCALENDAR
VERSION:2.0
PRODID:-//ABC Wesseln - ECPv6.15.20//NONSGML v1.0//EN
CALSCALE:GREGORIAN
METHOD:PUBLISH
X-WR-CALNAME:ABC Wesseln
X-ORIGINAL-URL:https://www.abc-wesseln.de
X-WR-CALDESC:Veranstaltungen für ABC Wesseln
REFRESH-INTERVAL;VALUE=DURATION:PT1H
X-Robots-Tag:noindex
X-PUBLISHED-TTL:PT1H
BEGIN:VTIMEZONE
TZID:Europe/Berlin
BEGIN:DAYLIGHT
TZOFFSETFROM:+0100
TZOFFSETTO:+0200
TZNAME:CEST
DTSTART:20250330T010000
END:DAYLIGHT
BEGIN:STANDARD
TZOFFSETFROM:+0200
TZOFFSETTO:+0100
TZNAME:CET
DTSTART:20251026T010000
END:STANDARD
BEGIN:DAYLIGHT
TZOFFSETFROM:+0100
TZOFFSETTO:+0200
TZNAME:CEST
DTSTART:20260329T010000
END:DAYLIGHT
BEGIN:STANDARD
TZOFFSETFROM:+0200
TZOFFSETTO:+0100
TZNAME:CET
DTSTART:20261025T010000
END:STANDARD
BEGIN:DAYLIGHT
TZOFFSETFROM:+0100
TZOFFSETTO:+0200
TZNAME:CEST
DTSTART:20270328T010000
END:DAYLIGHT
BEGIN:STANDARD
TZOFFSETFROM:+0200
TZOFFSETTO:+0100
TZNAME:CET
DTSTART:20271031T010000
END:STANDARD
END:VTIMEZONE
BEGIN:VEVENT
DTSTART;TZID=Europe/Berlin:20261106T190000
DTEND;TZID=Europe/Berlin:20261106T210000
DTSTAMP:20260425T010839
CREATED:20251021T193902Z
LAST-MODIFIED:20251021T235522Z
UID:4290-1793991600-1793998800@www.abc-wesseln.de
SUMMARY:Laternenumzug 2026
DESCRIPTION:Laternenumzug des ABC Wesseln 2026 \nDer ABC Wesseln lädt alle Kinder\, Familien und Freunde herzlich zum traditionellen Laternenumzug ein! Wir treffen uns am 30. Oktober 2026 um 19 Uhr am neuen Mehrzweckgebäude für die Feuerwehr und den Bauhof in der Holstenstraße. \nGemeinsam gehen wir mit unseren bunten Laternen durch die Straßen und schaffen eine stimmungsvolle Atmosphäre. Nach dem Laternenumzug laden wir herzlich zu Würstchen und Getränken ein\, um den Abend gemütlich ausklingen zu lassen. \nGanz besonders freuen wir uns auf die kreativsten und schönsten Laternen – diese werden mit einer tollen Prämierung belohnt! \nKommt vorbei\, bringt gute Laune mit und lasst uns zusammen einen zauberhaften Abend erleben. \nWir freuen uns auf euch! \nEuer ABC Wesseln
URL:https://www.abc-wesseln.de/veranstaltung/laternenumzug-2026/
LOCATION:Bei der Feuerwehr am neuen Mehrzweckgebäude in der Holstenstraße (gegenüber Bauer Koll)\, Holstenstraße 63c\, Wesseln\, 25746\, Germany
END:VEVENT
END:VCALENDAR