BEGIN:VCALENDAR
VERSION:2.0
PRODID:-//ABC Wesseln - ECPv6.15.20//NONSGML v1.0//EN
CALSCALE:GREGORIAN
METHOD:PUBLISH
X-ORIGINAL-URL:https://www.abc-wesseln.de
X-WR-CALDESC:Veranstaltungen für ABC Wesseln
REFRESH-INTERVAL;VALUE=DURATION:PT1H
X-Robots-Tag:noindex
X-PUBLISHED-TTL:PT1H
BEGIN:VTIMEZONE
TZID:Europe/Berlin
BEGIN:DAYLIGHT
TZOFFSETFROM:+0100
TZOFFSETTO:+0200
TZNAME:CEST
DTSTART:20250330T010000
END:DAYLIGHT
BEGIN:STANDARD
TZOFFSETFROM:+0200
TZOFFSETTO:+0100
TZNAME:CET
DTSTART:20251026T010000
END:STANDARD
BEGIN:DAYLIGHT
TZOFFSETFROM:+0100
TZOFFSETTO:+0200
TZNAME:CEST
DTSTART:20260329T010000
END:DAYLIGHT
BEGIN:STANDARD
TZOFFSETFROM:+0200
TZOFFSETTO:+0100
TZNAME:CET
DTSTART:20261025T010000
END:STANDARD
BEGIN:DAYLIGHT
TZOFFSETFROM:+0100
TZOFFSETTO:+0200
TZNAME:CEST
DTSTART:20270328T010000
END:DAYLIGHT
BEGIN:STANDARD
TZOFFSETFROM:+0200
TZOFFSETTO:+0100
TZNAME:CET
DTSTART:20271031T010000
END:STANDARD
END:VTIMEZONE
BEGIN:VEVENT
DTSTART;VALUE=DATE:20260207
DTEND;VALUE=DATE:20260208
DTSTAMP:20260426T061100
CREATED:20251021T235023Z
LAST-MODIFIED:20251021T235023Z
UID:4363-1770422400-1770508799@www.abc-wesseln.de
SUMMARY:Kinderfasching 2026
DESCRIPTION:Am 7. Februar 2026 feiern wir gemeinsam den Kinderfasching in der Turnhalle der Grundschule Wesseln. Alle Kinder und Familien sind herzlich eingeladen\, sich bunt zu verkleiden und einen fröhlichen Tag mit Spielen\, Musik und viel Spaß zu erleben. Für reichlich gute Laune und tolle Stimmung ist gesorgt – bringt eure Freunde mit!\nEuer ABC Wesseln
URL:https://www.abc-wesseln.de/veranstaltung/kinderfasching-2026/
LOCATION:Sporthalle Grundschule Wesseln\, Holstenstraße 43\, Wesseln\, 25746\, Deutschland
END:VEVENT
END:VCALENDAR