BEGIN:VCALENDAR
VERSION:2.0
PRODID:-//ABC Wesseln - ECPv6.15.20//NONSGML v1.0//EN
CALSCALE:GREGORIAN
METHOD:PUBLISH
X-ORIGINAL-URL:https://www.abc-wesseln.de
X-WR-CALDESC:Veranstaltungen für ABC Wesseln
REFRESH-INTERVAL;VALUE=DURATION:PT1H
X-Robots-Tag:noindex
X-PUBLISHED-TTL:PT1H
BEGIN:VTIMEZONE
TZID:Europe/Berlin
BEGIN:DAYLIGHT
TZOFFSETFROM:+0100
TZOFFSETTO:+0200
TZNAME:CEST
DTSTART:20230326T010000
END:DAYLIGHT
BEGIN:STANDARD
TZOFFSETFROM:+0200
TZOFFSETTO:+0100
TZNAME:CET
DTSTART:20231029T010000
END:STANDARD
BEGIN:DAYLIGHT
TZOFFSETFROM:+0100
TZOFFSETTO:+0200
TZNAME:CEST
DTSTART:20240331T010000
END:DAYLIGHT
BEGIN:STANDARD
TZOFFSETFROM:+0200
TZOFFSETTO:+0100
TZNAME:CET
DTSTART:20241027T010000
END:STANDARD
BEGIN:DAYLIGHT
TZOFFSETFROM:+0100
TZOFFSETTO:+0200
TZNAME:CEST
DTSTART:20250330T010000
END:DAYLIGHT
BEGIN:STANDARD
TZOFFSETFROM:+0200
TZOFFSETTO:+0100
TZNAME:CET
DTSTART:20251026T010000
END:STANDARD
END:VTIMEZONE
BEGIN:VEVENT
DTSTART;TZID=Europe/Berlin:20240324T130000
DTEND;TZID=Europe/Berlin:20240324T170000
DTSTAMP:20260420T083345
CREATED:20240111T070111Z
LAST-MODIFIED:20240111T070153Z
UID:3928-1711285200-1711299600@www.abc-wesseln.de
SUMMARY:Billard Heimspiel
DESCRIPTION:Gast: BC Bergedorf 5 \nWeitere Infos bei: www.ndbv.de
URL:https://www.abc-wesseln.de/veranstaltung/billard-heimspiel/
LOCATION:Billardturm bei Marktkauf\, Hafenstraße 2\, Heide\, 25746
END:VEVENT
END:VCALENDAR