BEGIN:VCALENDAR
VERSION:2.0
PRODID:-//ABC Wesseln - ECPv6.15.20//NONSGML v1.0//EN
CALSCALE:GREGORIAN
METHOD:PUBLISH
X-WR-CALNAME:ABC Wesseln
X-ORIGINAL-URL:https://www.abc-wesseln.de
X-WR-CALDESC:Veranstaltungen für ABC Wesseln
REFRESH-INTERVAL;VALUE=DURATION:PT1H
X-Robots-Tag:noindex
X-PUBLISHED-TTL:PT1H
BEGIN:VTIMEZONE
TZID:Europe/Berlin
BEGIN:DAYLIGHT
TZOFFSETFROM:+0100
TZOFFSETTO:+0200
TZNAME:CEST
DTSTART:20220327T010000
END:DAYLIGHT
BEGIN:STANDARD
TZOFFSETFROM:+0200
TZOFFSETTO:+0100
TZNAME:CET
DTSTART:20221030T010000
END:STANDARD
BEGIN:DAYLIGHT
TZOFFSETFROM:+0100
TZOFFSETTO:+0200
TZNAME:CEST
DTSTART:20230326T010000
END:DAYLIGHT
BEGIN:STANDARD
TZOFFSETFROM:+0200
TZOFFSETTO:+0100
TZNAME:CET
DTSTART:20231029T010000
END:STANDARD
BEGIN:DAYLIGHT
TZOFFSETFROM:+0100
TZOFFSETTO:+0200
TZNAME:CEST
DTSTART:20240331T010000
END:DAYLIGHT
BEGIN:STANDARD
TZOFFSETFROM:+0200
TZOFFSETTO:+0100
TZNAME:CET
DTSTART:20241027T010000
END:STANDARD
END:VTIMEZONE
BEGIN:VEVENT
DTSTART;TZID=Europe/Berlin:20230416T124500
DTEND;TZID=Europe/Berlin:20230416T144500
DTSTAMP:20260422T185320
CREATED:20221120T093332Z
LAST-MODIFIED:20221120T093727Z
UID:3548-1681649100-1681656300@www.abc-wesseln.de
SUMMARY:2. Mannschaft - SpVgg Holstein-West 19
DESCRIPTION:Gast: SV Süderholm 2
URL:https://www.abc-wesseln.de/veranstaltung/2-mannschaft-spvgg-holstein-west-19-3/
LOCATION:Schule in Wesseln
CATEGORIES:Für Alle
END:VEVENT
BEGIN:VEVENT
DTSTART;TZID=Europe/Berlin:20230416T160000
DTEND;TZID=Europe/Berlin:20230416T180000
DTSTAMP:20260422T185320
CREATED:20221120T092318Z
LAST-MODIFIED:20221120T093717Z
UID:3534-1681660800-1681668000@www.abc-wesseln.de
SUMMARY:1. Mannschaft - SpVgg Holstein-West 19
DESCRIPTION:Gast: SG Eiderstedt
URL:https://www.abc-wesseln.de/veranstaltung/1-mannschaft-spvgg-holstein-west-19-4/
LOCATION:Schule in Wesseln
CATEGORIES:Für Alle
END:VEVENT
END:VCALENDAR