BEGIN:VCALENDAR
VERSION:2.0
PRODID:-//ABC Wesseln - ECPv6.15.20//NONSGML v1.0//EN
CALSCALE:GREGORIAN
METHOD:PUBLISH
X-WR-CALNAME:ABC Wesseln
X-ORIGINAL-URL:https://www.abc-wesseln.de
X-WR-CALDESC:Veranstaltungen für ABC Wesseln
REFRESH-INTERVAL;VALUE=DURATION:PT1H
X-Robots-Tag:noindex
X-PUBLISHED-TTL:PT1H
BEGIN:VTIMEZONE
TZID:Europe/Berlin
BEGIN:DAYLIGHT
TZOFFSETFROM:+0100
TZOFFSETTO:+0200
TZNAME:CEST
DTSTART:20220327T010000
END:DAYLIGHT
BEGIN:STANDARD
TZOFFSETFROM:+0200
TZOFFSETTO:+0100
TZNAME:CET
DTSTART:20221030T010000
END:STANDARD
BEGIN:DAYLIGHT
TZOFFSETFROM:+0100
TZOFFSETTO:+0200
TZNAME:CEST
DTSTART:20230326T010000
END:DAYLIGHT
BEGIN:STANDARD
TZOFFSETFROM:+0200
TZOFFSETTO:+0100
TZNAME:CET
DTSTART:20231029T010000
END:STANDARD
BEGIN:DAYLIGHT
TZOFFSETFROM:+0100
TZOFFSETTO:+0200
TZNAME:CEST
DTSTART:20240331T010000
END:DAYLIGHT
BEGIN:STANDARD
TZOFFSETFROM:+0200
TZOFFSETTO:+0100
TZNAME:CET
DTSTART:20241027T010000
END:STANDARD
END:VTIMEZONE
BEGIN:VEVENT
DTSTART;TZID=Europe/Berlin:20230323T193000
DTEND;TZID=Europe/Berlin:20230323T220000
DTSTAMP:20260422T201106
CREATED:20230202T105105Z
LAST-MODIFIED:20230202T105352Z
UID:3625-1679599800-1679608800@www.abc-wesseln.de
SUMMARY:Mitgliederversammlung 2023
DESCRIPTION:Einladung zur Mitgliederversammlung am Donnerstag\, den 23. März 2023 um 19:30 Uhr im Gemeinschaftsraum der Schule Wesseln.
URL:https://www.abc-wesseln.de/veranstaltung/mitgliederversammlung-2023/
LOCATION:Schule in Wesseln
CATEGORIES:Sitzungen
END:VEVENT
END:VCALENDAR