BEGIN:VCALENDAR
VERSION:2.0
PRODID:-//ABC Wesseln - ECPv6.15.20//NONSGML v1.0//EN
CALSCALE:GREGORIAN
METHOD:PUBLISH
X-WR-CALNAME:ABC Wesseln
X-ORIGINAL-URL:https://www.abc-wesseln.de
X-WR-CALDESC:Veranstaltungen für ABC Wesseln
REFRESH-INTERVAL;VALUE=DURATION:PT1H
X-Robots-Tag:noindex
X-PUBLISHED-TTL:PT1H
BEGIN:VTIMEZONE
TZID:Europe/Berlin
BEGIN:DAYLIGHT
TZOFFSETFROM:+0100
TZOFFSETTO:+0200
TZNAME:CEST
DTSTART:20210328T010000
END:DAYLIGHT
BEGIN:STANDARD
TZOFFSETFROM:+0200
TZOFFSETTO:+0100
TZNAME:CET
DTSTART:20211031T010000
END:STANDARD
BEGIN:DAYLIGHT
TZOFFSETFROM:+0100
TZOFFSETTO:+0200
TZNAME:CEST
DTSTART:20220327T010000
END:DAYLIGHT
BEGIN:STANDARD
TZOFFSETFROM:+0200
TZOFFSETTO:+0100
TZNAME:CET
DTSTART:20221030T010000
END:STANDARD
BEGIN:DAYLIGHT
TZOFFSETFROM:+0100
TZOFFSETTO:+0200
TZNAME:CEST
DTSTART:20230326T010000
END:DAYLIGHT
BEGIN:STANDARD
TZOFFSETFROM:+0200
TZOFFSETTO:+0100
TZNAME:CET
DTSTART:20231029T010000
END:STANDARD
END:VTIMEZONE
BEGIN:VEVENT
DTSTART;TZID=Europe/Berlin:20221029T193000
DTEND;TZID=Europe/Berlin:20221029T223000
DTSTAMP:20260423T022929
CREATED:20211213T183409Z
LAST-MODIFIED:20221206T204844Z
UID:3160-1667071800-1667082600@www.abc-wesseln.de
SUMMARY:Becherclub
DESCRIPTION:Veranstaltung für die Ehrenamtlichen im ABC Wesseln. \nWürdigung des Ehrenamtes\nWESSELN Becherclub des ABC zeichnet Frauen und Männer aus\n\nBecherclub das ist der Name für den Zusammenschluss aller ehrenamtlich Tätigen für den Sportverein ABC Wesseln. In diesem Club sind jüngere und ältere Sportlerinnen und Sportler vertreten. Es sind langjährig Tätige\, sozusagen Altgediente\, ebenso wie neu Hinzugekommene. Jeder ist willkommen und wichtig in der großen Familie der Ehrenamtler. Einmal im Jahr werden die Ehrenamtler vom Vorstand des Vereins eingeladen und mit einem Becher aus Zinn geehrt. Das ist in dieser Form wohl einmalig in Dithmarschen. Zum einen sind Frauen und Männer für ihren Verein unentgeltlich tätig\, das ist beachtlich und lobenswert\, zum anderen gibt es diesen Club ohne Unterbrechung seit 1966\, seit der Gründung des Vereins. Das ist nach über 50 Jahren des Vereinslebens etwas Besonderes und Bemerkenswertes. \nÜber 450 Menschen haben sich Im Laufe der Vereinsgeschichte bis heute für das Ehrenamt eingesetzt. Der Vorsitzende des Athletik Ballspiel Clubs (ABC)\, Dirk Krause\, begrüßte 60 Gäste bei der abendlichen Ehrung für das Sportjahr 2021/22 im Dörpshus in Lohe-Rickelshof. \nDort gab es an festlich gedeckten Tischen zunächst ein leckeres Grünkohlessen. Danach folgten für jede ehrenamtlich tätige Person treffende\, freundliche Dankesworte und die Überreichung des Bechers durch Dirk Krause in gekonnt lockerer\, einfühlsamer und unterhaltsamer Art. Das war toll gemacht.\nGute Unterstützung erfuhr er durch Kassenwartin Anke Behrmann und zweiten Vorsitzenden Martin Schlotfeldt. Die drei opfern ihre Zeit für die gute Sache des Ehrenamtes zum Wohle der Allgemeinheit\, zum Wohle des Sportes. Sie freuen sich mit den aktiv Sporttreibenden und den vielen Ehrenamtlern. Nur gemeinsam kann der Verein stark sein. \nIm folgenden werden die ehrenamtlich tätigen Personen\, die geehrt wurden\, in alphabetischer Reihenfolge genannt: Thomas Andresen/ Sabine Arens\, Dieter Arens\, Sabine Bärtige\, Jürgen Beeck\, Anke Behrmann\, Sönke Behrmann\, Björn Borchert\, Kristofer Bonn\, Sönke Dohrn\, Maurus Dümmer\, Sigrid Florian\, Holger Glindemann\, Jost Hagelstein\, Till Hagelstein\, Dominik Frank Ha-mann\, Uwe Henning\, Tim Hinkfuß\, Sabine Hinz\, Stephan Jahnke\, Hans-Joachim Jahnke\, Christel Jahnke\, Lars Jeronimus\, Öle Keil\, Michael KnöU\, Gedrik Krause\, Marvin Krause\, Dirk Krause\, Sylvia Kubeseh\, Bodo Ladendorf\, Karl-Ernst Ladendorf\, Katja Levin\, Piotr Loza\, Kristian Munsche\, Matthias Nesüer\, Kevin Neuhoff\, Arv-Tave Nissen\, Wiebke Offermann\, Dietmar Papenfuß\, Axel Paulsen\, Joris Popp\, Heinz-Georg Quade\, Stefan Roth\, Willi Rüge\, Alexander Scheffel\, Manfred Schlechter\, Joachim Schlossarek\, Linus Schlotfeldt\, Martin Schlotfeldt\, Stefan Schröder\, Sascha Spiering\, Olaf Spinger\, Kai Stange\, Peter Stelling\, Magnus Stöhrmann\, Claus Umbach\, Claudia Vehrs\, Hanna Vehrs\, Jan Vehrs\, Timo Vennewald\, Maik Weinreich und Peter Wittern. \n\nSabine Arens (veröffentlicht in der DLZ vom 25.11.2022)
URL:https://www.abc-wesseln.de/veranstaltung/becherclub/
END:VEVENT
END:VCALENDAR